BEGIN:VCALENDAR
VERSION:2.0
PRODID:-//Uerdinger Ruderclub e.V. - ECPv6.15.13//NONSGML v1.0//EN
CALSCALE:GREGORIAN
METHOD:PUBLISH
X-WR-CALNAME:Uerdinger Ruderclub e.V.
X-ORIGINAL-URL:http://www.uerc.de
X-WR-CALDESC:Veranstaltungen für Uerdinger Ruderclub e.V.
REFRESH-INTERVAL;VALUE=DURATION:PT1H
X-Robots-Tag:noindex
X-PUBLISHED-TTL:PT1H
BEGIN:VTIMEZONE
TZID:Europe/Berlin
BEGIN:DAYLIGHT
TZOFFSETFROM:+0100
TZOFFSETTO:+0200
TZNAME:CEST
DTSTART:20240331T010000
END:DAYLIGHT
BEGIN:STANDARD
TZOFFSETFROM:+0200
TZOFFSETTO:+0100
TZNAME:CET
DTSTART:20241027T010000
END:STANDARD
BEGIN:DAYLIGHT
TZOFFSETFROM:+0100
TZOFFSETTO:+0200
TZNAME:CEST
DTSTART:20250330T010000
END:DAYLIGHT
BEGIN:STANDARD
TZOFFSETFROM:+0200
TZOFFSETTO:+0100
TZNAME:CET
DTSTART:20251026T010000
END:STANDARD
BEGIN:DAYLIGHT
TZOFFSETFROM:+0100
TZOFFSETTO:+0200
TZNAME:CEST
DTSTART:20260329T010000
END:DAYLIGHT
BEGIN:STANDARD
TZOFFSETFROM:+0200
TZOFFSETTO:+0100
TZNAME:CET
DTSTART:20261025T010000
END:STANDARD
END:VTIMEZONE
BEGIN:VEVENT
DTSTART;VALUE=DATE:20250424
DTEND;VALUE=DATE:20250427
DTSTAMP:20260425T220738
CREATED:20250128T193323Z
LAST-MODIFIED:20250128T193323Z
UID:3663-1745452800-1745711999@www.uerc.de
SUMMARY:Ruderkurs Kinder
DESCRIPTION:
URL:http://www.uerc.de/event/ruderkurs-kinder/
END:VEVENT
BEGIN:VEVENT
DTSTART;TZID=Europe/Berlin:20250426T110000
DTEND;TZID=Europe/Berlin:20250426T140000
DTSTAMP:20260425T220738
CREATED:20250128T191928Z
LAST-MODIFIED:20250128T191928Z
UID:3633-1745665200-1745676000@www.uerc.de
SUMMARY:Tag der offenen Tür
DESCRIPTION:
URL:http://www.uerc.de/event/tag-der-offenen-tuer/
END:VEVENT
END:VCALENDAR