BEGIN:VCALENDAR
VERSION:2.0
PRODID:-//Uerdinger Ruderclub e.V. - ECPv6.15.13//NONSGML v1.0//EN
CALSCALE:GREGORIAN
METHOD:PUBLISH
X-WR-CALNAME:Uerdinger Ruderclub e.V.
X-ORIGINAL-URL:http://www.uerc.de
X-WR-CALDESC:Veranstaltungen für Uerdinger Ruderclub e.V.
REFRESH-INTERVAL;VALUE=DURATION:PT1H
X-Robots-Tag:noindex
X-PUBLISHED-TTL:PT1H
BEGIN:VTIMEZONE
TZID:Europe/Berlin
BEGIN:DAYLIGHT
TZOFFSETFROM:+0100
TZOFFSETTO:+0200
TZNAME:CEST
DTSTART:20240331T010000
END:DAYLIGHT
BEGIN:STANDARD
TZOFFSETFROM:+0200
TZOFFSETTO:+0100
TZNAME:CET
DTSTART:20241027T010000
END:STANDARD
BEGIN:DAYLIGHT
TZOFFSETFROM:+0100
TZOFFSETTO:+0200
TZNAME:CEST
DTSTART:20250330T010000
END:DAYLIGHT
BEGIN:STANDARD
TZOFFSETFROM:+0200
TZOFFSETTO:+0100
TZNAME:CET
DTSTART:20251026T010000
END:STANDARD
BEGIN:DAYLIGHT
TZOFFSETFROM:+0100
TZOFFSETTO:+0200
TZNAME:CEST
DTSTART:20260329T010000
END:DAYLIGHT
BEGIN:STANDARD
TZOFFSETFROM:+0200
TZOFFSETTO:+0100
TZNAME:CET
DTSTART:20261025T010000
END:STANDARD
END:VTIMEZONE
BEGIN:VEVENT
DTSTART;VALUE=DATE:20250507
DTEND;VALUE=DATE:20250522
DTSTAMP:20260425T220624
CREATED:20250128T193514Z
LAST-MODIFIED:20250422T190204Z
UID:3665-1746576000-1747871999@www.uerc.de
SUMMARY:Ruderkurs Erwachsene
DESCRIPTION:jeweils Mittwochs 18 Uhr und Samstags 10 Uhr \n5 Trainingseinheiten und Abschlusstour
URL:http://www.uerc.de/event/ruderkurs-erwachsene/
END:VEVENT
END:VCALENDAR